BEGIN:VCALENDAR
VERSION:2.0
PRODID:-//Denver Press Club - ECPv6.6.4.2//NONSGML v1.0//EN
CALSCALE:GREGORIAN
METHOD:PUBLISH
X-ORIGINAL-URL:https://denverpressclub.org
X-WR-CALDESC:Events for Denver Press Club
REFRESH-INTERVAL;VALUE=DURATION:PT1H
X-Robots-Tag:noindex
X-PUBLISHED-TTL:PT1H
BEGIN:VTIMEZONE
TZID:America/Denver
BEGIN:DAYLIGHT
TZOFFSETFROM:-0700
TZOFFSETTO:-0600
TZNAME:MDT
DTSTART:20220313T090000
END:DAYLIGHT
BEGIN:STANDARD
TZOFFSETFROM:-0600
TZOFFSETTO:-0700
TZNAME:MST
DTSTART:20221106T080000
END:STANDARD
END:VTIMEZONE
BEGIN:VEVENT
DTSTART;TZID=America/Denver:20220224T183000
DTEND;TZID=America/Denver:20220224T200000
DTSTAMP:20260424T044042
CREATED:20220201T004155Z
LAST-MODIFIED:20220201T011636Z
UID:3915-1645727400-1645732800@denverpressclub.org
SUMMARY:Dazzle Presents: Rob Mullins Quartet Mardis Gras Celebration
DESCRIPTION:Grammy nominated keyboardist and composer Rob Mullins will host the show on February 24th to celebrate Mardi Gras at the Denver Press Club. Enjoy New Orleans style jazz and blues with Rob and his all star band featuring Gabriel Marvin on trumpet for two sets.  Rob Mullins – Keyboard Gabriel Mervine – Trumpet Mark Simon – Bass Liam Zham – Drums   								\n				\n					\n		\n					\n		\n				\n						\n					\n			\n						\n				\n									We will have Nel’s BBQ food truck serving New Orleans style food to complete the Mardi Gras celebration experience. Come hungry and ready for some delicious food. 								\n				\n					\n		\n					\n		\n				\n						\n					\n			\n						\n				\n									NOTE: The Denver Press Club requires proof of vaccination or a negative COVID test within 48 hours of the event.
URL:https://denverpressclub.org/event/dazzle-presents-rob-mullins-quartet-mardis-gras-celebration/
LOCATION:The Denver Press Club\, 1330 Glenarm Pl\, Denver\, CO\, 80204\, United States
CATEGORIES:Dazzle Presents
ATTACH;FMTTYPE=image/png:https://denverpressclub.org/wp-content/uploads/2021/10/1500x1500-DAZZLE-black-on-white-copy.png
END:VEVENT
END:VCALENDAR