BEGIN:VCALENDAR
VERSION:2.0
PRODID:-//Denver Press Club - ECPv6.6.4.2//NONSGML v1.0//EN
CALSCALE:GREGORIAN
METHOD:PUBLISH
X-WR-CALNAME:Denver Press Club
X-ORIGINAL-URL:https://denverpressclub.org
X-WR-CALDESC:Events for Denver Press Club
REFRESH-INTERVAL;VALUE=DURATION:PT1H
X-Robots-Tag:noindex
X-PUBLISHED-TTL:PT1H
BEGIN:VTIMEZONE
TZID:America/Denver
BEGIN:DAYLIGHT
TZOFFSETFROM:-0700
TZOFFSETTO:-0600
TZNAME:MDT
DTSTART:20200308T090000
END:DAYLIGHT
BEGIN:STANDARD
TZOFFSETFROM:-0600
TZOFFSETTO:-0700
TZNAME:MST
DTSTART:20201101T080000
END:STANDARD
END:VTIMEZONE
BEGIN:VEVENT
DTSTART;TZID=America/Denver:20201103T160000
DTEND;TZID=America/Denver:20201103T220000
DTSTAMP:20260423T025941
CREATED:20201030T115520Z
LAST-MODIFIED:20201102T235605Z
UID:3306-1604419200-1604440800@denverpressclub.org
SUMMARY:Election Night Watch Party
DESCRIPTION:Join us in a Denver Press Club tradition as we watch the results roll in over drinks\, discussion and debate! \n\n\n\nYou know the drill\, folks: Join us  as the results roll in this election night! We’ll have our famously cheap drinks available all night\, and our acclaimed happy hour menu from 5 – 7:30.  \nPer health-related rules and regulations\, capacity will be tight and masks will be required of all attendees. Members can buy tickets immediately\, and non-members will have a chance this weekend if we have any extras.  \nWe can’t promise we know what the future holds for this nation\, but we can promise there’s no better place to sit and find out than the nation’s oldest press club! See you on Tuesday night.  \nIn the event we can’t hold this event due to increasing health restrictions\, we will refund your ticket.
URL:https://denverpressclub.org/event/election-night-watch-party/
LOCATION:The Denver Press Club\, 1330 Glenarm Pl\, Denver\, CO\, 80204\, United States
ATTACH;FMTTYPE=image/jpeg:https://denverpressclub.org/wp-content/uploads/2020/10/2a7ecc3d68b4702b23f1d597195b8677-97GXgY.tmp_.jpg
END:VEVENT
END:VCALENDAR