BEGIN:VCALENDAR
VERSION:2.0
PRODID:-//Denver Press Club - ECPv6.6.4.2//NONSGML v1.0//EN
CALSCALE:GREGORIAN
METHOD:PUBLISH
X-WR-CALNAME:Denver Press Club
X-ORIGINAL-URL:https://denverpressclub.org
X-WR-CALDESC:Events for Denver Press Club
REFRESH-INTERVAL;VALUE=DURATION:PT1H
X-Robots-Tag:noindex
X-PUBLISHED-TTL:PT1H
BEGIN:VTIMEZONE
TZID:America/Denver
BEGIN:DAYLIGHT
TZOFFSETFROM:-0700
TZOFFSETTO:-0600
TZNAME:MDT
DTSTART:20200308T090000
END:DAYLIGHT
BEGIN:STANDARD
TZOFFSETFROM:-0600
TZOFFSETTO:-0700
TZNAME:MST
DTSTART:20201101T080000
END:STANDARD
END:VTIMEZONE
BEGIN:VEVENT
DTSTART;TZID=America/Denver:20200912T173000
DTEND;TZID=America/Denver:20200912T200000
DTSTAMP:20260421T030707
CREATED:20200126T225941Z
LAST-MODIFIED:20200908T195748Z
UID:2512-1599931800-1599940800@denverpressclub.org
SUMMARY:Damon Runyon Award 2020 honoring Judy Woodruff
DESCRIPTION:The Denver Press Club will honor Judy Woodruff\, the managing editor and anchor for the PBS NewsHour\, with its 26th annual Damon Runyon Award. The event will be broadcast over Zoom meetings. Attendees may also watch the broadcast — without requiring Zoom — at denverpressclub.org/live. You should have received the password in an email or it can be found in the program inside your gift box. \n5:30-6 p.m. Virtual VIP reception with Judy Woodruff\n6-6:30 p.m. Table Talk in Zoom breakout rooms\n6:30 p.m. Regular Program begins\n6:35 p.m. Student scholarship winner presentation\n6:45 p.m. President’s Remarks\n6:55 p.m. Al Nakkula Award for Police Reporting Presentation\n7:05 p.m. Proclamation from the City of Denver for Judy Woodruff\n7:15 p.m. Judy Woodruff Q&A with Colorado journalist Laura Frank\n7:55 p.m. Closing Remarks\n8:00 p.m. Program Ends \nThroughout the program\, we’ll show short videos of nine student journalists who were awarded Damon Runyon scholarships. Special thanks to Gold sponsor the Ten10 Group for their work producing the videos for us. \nTickets are available at Blacktie-Colorado for purchase at the regular rates. When you purchase your ticket\, you will receive a link to the event to connect via Zoom or YouTube a few days before the event. \n\nThe Club is extremely grateful for the support of our sponsors. \nGold\n\nBronze\n\nAAA Colorado\nArrow Electronics\nClarity Media Group/The Gazette/Colorado Politics\nThe Colorado Sun\nThe Denver Post\nGround Floor Media/IMA/Sander Marketing\nKUSA-TV\nKMGH-TV\nKrystal Media\nTri-State Generation and Transmission Association\nUnited Healthcare\n\nCOLLEGE\n\nColorado College\nColorado State University Fort Collins\nMetropolitan State University of Denver\nUniversity of Colorado at Boulder\nUniversity of Denver\nUniversity of Northern Colorado\n\nWith special thanks to our partners:\n\nProduction Services International\nEgan Printing\n\nAbout Judy Woodruff\nWoodruff has been a pioneer for women in broadcast media. She joined NBC in 1975 to work as a general assignment reporter in Atlanta. In 1977\, she moved to Washington\, D.C.\, to become an NBC White House correspondent\, covering the Carter and Reagan administrations. \nWoodruff then moved to PBS\, working there from 1983-1993 as the chief Washington correspondent for the MacNeil/Lehrer NewsHour while also anchoring “Frontline with Judy Woodruff” from 1984-1990. \nIn 1993\, she jumped to CNN\, where she worked for 12 years\, anchoring the program “Inside Politics” and covering major events including Richard Nixon’s funeral and the War in Afghanistan. She returned to the NewsHour in 2007. In 2013\, she and the late Gwen Ifill were named the first two women to co-anchor a national broadcast before Ifill’s death in 2016.
URL:https://denverpressclub.org/event/damon-runyon-award-2020-tickets-judy-woodruff/
LOCATION:Denver Athletic Club\, 1325 Glenarm Place\, Denver\, CO\, 80204\, United States
CATEGORIES:Fundraisers
END:VEVENT
BEGIN:VEVENT
DTSTART;TZID=America/Denver:20200929T190000
DTEND;TZID=America/Denver:20200929T213000
DTSTAMP:20260421T030707
CREATED:20200928T123532Z
LAST-MODIFIED:20201005T110745Z
UID:3269-1601406000-1601415000@denverpressclub.org
SUMMARY:Presidential Debate Watch Party
DESCRIPTION:Join us in a DPC tradition as President Donald Trump squares off against former Vice President Joe Biden in their first debate this cycle! \n\n\n\nScreening the presidential debates over drinks and discussion is a Denver Press Club tradition\, and we’re excited we can keep it up this year – albeit in a much more limited way. Club capacity will be extremely restricted  to protect your health and safety\, so tickets and masks will be required. We’ll have to turn away anybody without a ticket\, which will be released on a first come\, first-served basis!
URL:https://denverpressclub.org/event/presidential-debate-watch-party/
LOCATION:The Denver Press Club\, 1330 Glenarm Pl\, Denver\, CO\, 80204\, United States
ATTACH;FMTTYPE=image/jpeg:https://denverpressclub.org/wp-content/uploads/2020/09/29bb0b7c8b81ea079c942f499b169c69-0PPr11.tmp_.jpg
END:VEVENT
END:VCALENDAR