BEGIN:VCALENDAR
VERSION:2.0
PRODID:-//Denver Press Club - ECPv6.6.4.2//NONSGML v1.0//EN
CALSCALE:GREGORIAN
METHOD:PUBLISH
X-ORIGINAL-URL:https://denverpressclub.org
X-WR-CALDESC:Events for Denver Press Club
REFRESH-INTERVAL;VALUE=DURATION:PT1H
X-Robots-Tag:noindex
X-PUBLISHED-TTL:PT1H
BEGIN:VTIMEZONE
TZID:America/Denver
BEGIN:DAYLIGHT
TZOFFSETFROM:-0700
TZOFFSETTO:-0600
TZNAME:MDT
DTSTART:20260308T090000
END:DAYLIGHT
BEGIN:STANDARD
TZOFFSETFROM:-0600
TZOFFSETTO:-0700
TZNAME:MST
DTSTART:20261101T080000
END:STANDARD
END:VTIMEZONE
BEGIN:VEVENT
DTSTART;TZID=America/Denver:20260417T183000
DTEND;TZID=America/Denver:20260417T193000
DTSTAMP:20260425T133053
CREATED:20260410T164650Z
LAST-MODIFIED:20260410T164650Z
UID:58756-1776450600-1776454200@denverpressclub.org
SUMMARY:Book Talk - One Betrayal Too Many: Why I Left MAGA
DESCRIPTION:Rich Logis spent seven years as a devoted MAGA activist\, pundit and podcaster. He left the movement in 2022 after becoming disillusioned with its extremism and negative impact on American democracy. Not content to simply walk away\, Rich founded Leaving MAGA in 2024\, a nonpartisan nonprofit organization. Through public speaking\, writing\, and media appearances\, he works fervently to support those seeking a path out of radicalization. Rich refers to himself as a born-again human being\, and he believes that empathy and understanding are necessary to reduce political polarization. He is the author of the recently released memoir One Betrayal Too Many: Why I Left MAGA\, with a foreword by former U.S. Representative Adam Kinzinger. \nOne Betrayal Too Many: Why I Left MAGA shows how intelligent\, well-intentioned people can be drawn into political movements – and how they\ncan find their way out. The book is also for the tens of millions of Americans with friends or loved ones in MAGA. In addition to his own candid story\, Rich includes the testimonials of six others who left the movement\, demonstrating that there is no such thing as a stereotypical MAGA American.\n\nHis website is www.LeavingMAGA.org\nTickets here!
URL:https://denverpressclub.org/event/book-talk-one-betrayal-too-many-why-i-left-maga/
LOCATION:The Denver Press Club\, 1330 Glenarm Pl\, Denver\, CO\, 80204\, United States
ATTACH;FMTTYPE=image/png:https://denverpressclub.org/wp-content/uploads/2026/04/Why-I-Left-MAGA-event-1.png
END:VEVENT
BEGIN:VEVENT
DTSTART;TZID=America/Denver:20260421T180000
DTEND;TZID=America/Denver:20260421T190000
DTSTAMP:20260425T133053
CREATED:20260410T171414Z
LAST-MODIFIED:20260410T171414Z
UID:58768-1776794400-1776798000@denverpressclub.org
SUMMARY:Data Journalist Meetup
DESCRIPTION:RSVP here!
URL:https://denverpressclub.org/event/data-journalist-meetup/
LOCATION:The Denver Press Club\, 1330 Glenarm Pl\, Denver\, CO\, 80204\, United States
ATTACH;FMTTYPE=image/png:https://denverpressclub.org/wp-content/uploads/2026/04/April-Data-Journalist-Meetup.png
END:VEVENT
BEGIN:VEVENT
DTSTART;TZID=America/Denver:20260422T183000
DTEND;TZID=America/Denver:20260422T200000
DTSTAMP:20260425T133053
CREATED:20260305T183453Z
LAST-MODIFIED:20260305T183453Z
UID:58655-1776882600-1776888000@denverpressclub.org
SUMMARY:April Board Meeting
DESCRIPTION:RSVP HERE!
URL:https://denverpressclub.org/event/april-board-meeting/
LOCATION:The Denver Press Club\, 1330 Glenarm Pl\, Denver\, CO\, 80204\, United States
ATTACH;FMTTYPE=image/png:https://denverpressclub.org/wp-content/uploads/2026/03/April-board-meeting-1.png
END:VEVENT
BEGIN:VEVENT
DTSTART;TZID=America/Denver:20260424T183000
DTEND;TZID=America/Denver:20260424T193000
DTSTAMP:20260425T133053
CREATED:20260318T233314Z
LAST-MODIFIED:20260406T220216Z
UID:58701-1777055400-1777059000@denverpressclub.org
SUMMARY:Interrogating Silence: A Night with Tennessee Watson
DESCRIPTION:In honor of Sexual Assault Awareness Month\, audio documentarian Tennessee Watson joins the Denver Press Club on Friday\, April 24 at 6:30 p.m. in this discussion presented by ColoRadio and Colorado Press Women. \nIt’s the 10th anniversary of Watson’s Peabody-nominated documentary series “Silent Evidence\,” produced as a season of the Heart podcast. In “Silent Evidence\,” Watson confronts her childhood sexual abuser\, documenting her decades-long journey to going public\, and her experience with the criminal justice system\, all the while asking larger questions that still feel relevant today: Why do survivors stay silent? Does silence protect survivors\, or does it do harm? \nWatson joins us to discuss her behind-the-scenes process of reporting “Silent Evidence\,” as well as how journalists can holistically center the stories of survivors when reporting on sexual abuse. \n  \nTICKETS HERE! \n  \nAbout the speakers: \nBased in Laramie\, Wyoming\, Watson is the managing editor for WyoFile. An award-winning journalist\, Watson’s work has appeared on NPR\, Reveal\, the Heart and the Modern West. She will be joined in conversation by Esther Honig\, independent journalist and StoryCorps producer. \n  \n  \nAbout the sponsors: \nColoRadio is a collective of audio creators based in Denver\, CO\, hosting semi-regular events that build community and uplift great storytelling. Subscribe to our newsletter. \n  \nColorado Press Women is an affiliate of the National Federation of Press Women\, devoted to enabling professional growth for communicators\, maintaining the highest ethical standards\, and protecting our First Amendment Rights. Learn more.
URL:https://denverpressclub.org/event/interrogating-silence-a-night-with-tennesse-watson/
LOCATION:The Denver Press Club\, 1330 Glenarm Pl\, Denver\, CO\, 80204\, United States
ATTACH;FMTTYPE=image/png:https://denverpressclub.org/wp-content/uploads/2026/03/Tennessee-Watson-Event-1.png
END:VEVENT
BEGIN:VEVENT
DTSTART;TZID=America/Denver:20260506T180000
DTEND;TZID=America/Denver:20260506T193000
DTSTAMP:20260425T133053
CREATED:20260410T165655Z
LAST-MODIFIED:20260410T170215Z
UID:58759-1778090400-1778095800@denverpressclub.org
SUMMARY:Women Journalists Meetup
DESCRIPTION:RSVP here!
URL:https://denverpressclub.org/event/women-journalists-meetup/
LOCATION:The Denver Press Club\, 1330 Glenarm Pl\, Denver\, CO\, 80204\, United States
ATTACH;FMTTYPE=image/png:https://denverpressclub.org/wp-content/uploads/2026/04/May-Women-Journo-Night.png
END:VEVENT
BEGIN:VEVENT
DTSTART;TZID=America/Denver:20260507T180000
DTEND;TZID=America/Denver:20260507T200000
DTSTAMP:20260425T133053
CREATED:20260420T224624Z
LAST-MODIFIED:20260420T224624Z
UID:58812-1778176800-1778184000@denverpressclub.org
SUMMARY:Fred Brown Celebration of Life
DESCRIPTION:Join us to celebrate the life of Fred Brown – please RSVP so we can plan for attendance. RSVP here.
URL:https://denverpressclub.org/event/fred-brown-celebration-of-life/
LOCATION:The Denver Press Club\, 1330 Glenarm Pl\, Denver\, CO\, 80204\, United States
ATTACH;FMTTYPE=image/png:https://denverpressclub.org/wp-content/uploads/2026/04/Fred-Brown-Flyer.png
END:VEVENT
BEGIN:VEVENT
DTSTART;TZID=America/Denver:20260508T180000
DTEND;TZID=America/Denver:20260508T200000
DTSTAMP:20260425T133053
CREATED:20260415T233034Z
LAST-MODIFIED:20260415T233034Z
UID:58787-1778263200-1778270400@denverpressclub.org
SUMMARY:Crafting for Democracy
DESCRIPTION:Join some of our beloved members for an open evening of conversation\, crafting and community.
URL:https://denverpressclub.org/event/crafting-for-democracy-8/
LOCATION:The Denver Press Club\, 1330 Glenarm Pl\, Denver\, CO\, 80204\, United States
ATTACH;FMTTYPE=image/jpeg:https://denverpressclub.org/wp-content/uploads/2026/04/IMG_3085-1.jpeg
END:VEVENT
BEGIN:VEVENT
DTSTART;TZID=America/Denver:20260508T190000
DTEND;TZID=America/Denver:20260508T200000
DTSTAMP:20260425T133053
CREATED:20260414T212020Z
LAST-MODIFIED:20260414T212039Z
UID:58782-1778266800-1778270400@denverpressclub.org
SUMMARY:Photo Night
DESCRIPTION:Born and based in Colorado\, Matt Nager is an editorial and advertising photographer with 25 years of experience. His work spans brand campaigns\, long-term commercial relationships\, and editorial magazine projects\, with a focus on photographing people and the lives they lead. \n\nAmongst others\, his editorial work has appeared in The New York Times Magazine\, Fast Company\, Men’s Journal\, Mother Jones\, Smithsonian\, Outside Magazine and TIME. His advertising clients include Logitech\, Coors\, Reebok\, Frontier Airlines\, General Mills\, Walmart and more. You can see his website here: https://mattnager.com or follow him on Instagram: @mattnager. \n  \nThe event is free and starts at 7pm. Please register so we know how many will be in attendance. The event is sponsored by the College of Communication\, Media\, Design and Information at CU Boulder. \nRSVP here!
URL:https://denverpressclub.org/event/photo-night-2/
LOCATION:The Denver Press Club\, 1330 Glenarm Pl\, Denver\, CO\, 80204\, United States
ATTACH;FMTTYPE=image/png:https://denverpressclub.org/wp-content/uploads/2026/04/May-8-Photo-Night.png
END:VEVENT
BEGIN:VEVENT
DTSTART;TZID=America/Denver:20260513T170000
DTEND;TZID=America/Denver:20260513T200000
DTSTAMP:20260425T133053
CREATED:20260129T215738Z
LAST-MODIFIED:20260129T215738Z
UID:58550-1778691600-1778702400@denverpressclub.org
SUMMARY:Sine Die Party
DESCRIPTION:The Denver Press Club will host its annual Sine Die Party on May 13\, marking the official end of Colorado’s legislative session. Join lawmakers\, journalists\, staffers\, advocates\, and friends of the Fourth Estate for an evening of well-earned celebration after 120 days under the gold dome. The night will feature heavy-hour hors d’oeuvres\, drinks\, and plenty of off-the-record conversation. Whether you survived budget week\, bill deadlines\, or just followed along closely\, this is your chance to toast the end of another session. \nRSVP HERE!
URL:https://denverpressclub.org/event/sine-die-party/
LOCATION:The Denver Press Club\, 1330 Glenarm Pl\, Denver\, CO\, 80204\, United States
ATTACH;FMTTYPE=image/png:https://denverpressclub.org/wp-content/uploads/2026/01/Sine-Die-Party-1.png
END:VEVENT
BEGIN:VEVENT
DTSTART;TZID=America/Denver:20260513T190000
DTEND;TZID=America/Denver:20260513T210000
DTSTAMP:20260425T133053
CREATED:20260207T000529Z
LAST-MODIFIED:20260207T001600Z
UID:58578-1778698800-1778706000@denverpressclub.org
SUMMARY:UHS Trivia Contest
DESCRIPTION:Join us for the best trivia in town!
URL:https://denverpressclub.org/event/uhs-trivia-contest-14/
LOCATION:The Denver Press Club\, 1330 Glenarm Pl\, Denver\, CO\, 80204\, United States
ATTACH;FMTTYPE=image/png:https://denverpressclub.org/wp-content/uploads/2026/02/UHS-Trivia-Contest-2026.png
END:VEVENT
BEGIN:VEVENT
DTSTART;TZID=America/Denver:20260514T180000
DTEND;TZID=America/Denver:20260514T200000
DTSTAMP:20260425T133053
CREATED:20260413T161054Z
LAST-MODIFIED:20260413T161054Z
UID:58771-1778781600-1778788800@denverpressclub.org
SUMMARY:Hall of Fame Reception
DESCRIPTION:Tickets to the Reception here!
URL:https://denverpressclub.org/event/hall-of-fame-reception/
LOCATION:The Denver Press Club\, 1330 Glenarm Pl\, Denver\, CO\, 80204\, United States
ATTACH;FMTTYPE=image/png:https://denverpressclub.org/wp-content/uploads/2026/04/Hall-of-Fame-graphic-3.png
END:VEVENT
BEGIN:VEVENT
DTSTART;TZID=America/Denver:20260516T180000
DTEND;TZID=America/Denver:20260516T200000
DTSTAMP:20260425T133053
CREATED:20260413T161218Z
LAST-MODIFIED:20260413T161218Z
UID:58773-1778954400-1778961600@denverpressclub.org
SUMMARY:Hall of Fame Induction
DESCRIPTION:Tickets to the Induction here!
URL:https://denverpressclub.org/event/hall-of-fame-induction/
LOCATION:The Denver Press Club\, 1330 Glenarm Pl\, Denver\, CO\, 80204\, United States
ATTACH;FMTTYPE=image/png:https://denverpressclub.org/wp-content/uploads/2026/04/Hall-of-Fame-graphic-3.png
END:VEVENT
BEGIN:VEVENT
DTSTART;TZID=America/Denver:20260527T183000
DTEND;TZID=America/Denver:20260527T200000
DTSTAMP:20260425T133053
CREATED:20260305T184541Z
LAST-MODIFIED:20260305T184541Z
UID:58661-1779906600-1779912000@denverpressclub.org
SUMMARY:May Board Meeting
DESCRIPTION:RSVP HERE!
URL:https://denverpressclub.org/event/may-board-meeting/
LOCATION:The Denver Press Club\, 1330 Glenarm Pl\, Denver\, CO\, 80204\, United States
ATTACH;FMTTYPE=image/png:https://denverpressclub.org/wp-content/uploads/2026/03/May-board-meeting-1.png
END:VEVENT
BEGIN:VEVENT
DTSTART;TZID=America/Denver:20260610T190000
DTEND;TZID=America/Denver:20260610T210000
DTSTAMP:20260425T133053
CREATED:20260207T000654Z
LAST-MODIFIED:20260207T000654Z
UID:58580-1781118000-1781125200@denverpressclub.org
SUMMARY:UHS Trivia Contest
DESCRIPTION:Join us for the best trivia in town!
URL:https://denverpressclub.org/event/uhs-trivia-contest-15/
LOCATION:The Denver Press Club\, 1330 Glenarm Pl\, Denver\, CO\, 80204\, United States
ATTACH;FMTTYPE=image/png:https://denverpressclub.org/wp-content/uploads/2026/02/UHS-Trivia-Contest-2026.png
END:VEVENT
BEGIN:VEVENT
DTSTART;TZID=America/Denver:20260612T180000
DTEND;TZID=America/Denver:20260612T200000
DTSTAMP:20260425T133053
CREATED:20260415T233154Z
LAST-MODIFIED:20260415T233154Z
UID:58791-1781287200-1781294400@denverpressclub.org
SUMMARY:Crafting for Democracy
DESCRIPTION:Join some of our beloved members for an open evening of conversation\, crafting and community.
URL:https://denverpressclub.org/event/crafting-for-democracy-9/
LOCATION:The Denver Press Club\, 1330 Glenarm Pl\, Denver\, CO\, 80204\, United States
ATTACH;FMTTYPE=image/jpeg:https://denverpressclub.org/wp-content/uploads/2026/04/IMG_3085-1.jpeg
END:VEVENT
BEGIN:VEVENT
DTSTART;TZID=America/Denver:20260624T183000
DTEND;TZID=America/Denver:20260624T200000
DTSTAMP:20260425T133053
CREATED:20260305T190459Z
LAST-MODIFIED:20260305T190612Z
UID:58665-1782325800-1782331200@denverpressclub.org
SUMMARY:June Board Meeting
DESCRIPTION:RSVP HERE!
URL:https://denverpressclub.org/event/june-board-meeting/
LOCATION:The Denver Press Club\, 1330 Glenarm Pl\, Denver\, CO\, 80204\, United States
ATTACH;FMTTYPE=image/png:https://denverpressclub.org/wp-content/uploads/2026/03/June-board-meeting.png
END:VEVENT
BEGIN:VEVENT
DTSTART;TZID=America/Denver:20260708T190000
DTEND;TZID=America/Denver:20260708T210000
DTSTAMP:20260425T133053
CREATED:20260207T000819Z
LAST-MODIFIED:20260207T000819Z
UID:58582-1783537200-1783544400@denverpressclub.org
SUMMARY:UHS Trivia Contest
DESCRIPTION:Join us for the best trivia in town!
URL:https://denverpressclub.org/event/uhs-trivia-contest-16/
LOCATION:The Denver Press Club\, 1330 Glenarm Pl\, Denver\, CO\, 80204\, United States
ATTACH;FMTTYPE=image/png:https://denverpressclub.org/wp-content/uploads/2026/02/UHS-Trivia-Contest-2026.png
END:VEVENT
BEGIN:VEVENT
DTSTART;TZID=America/Denver:20260710T180000
DTEND;TZID=America/Denver:20260710T200000
DTSTAMP:20260425T133053
CREATED:20260415T233244Z
LAST-MODIFIED:20260415T233244Z
UID:58793-1783706400-1783713600@denverpressclub.org
SUMMARY:Crafting for Democracy
DESCRIPTION:Join some of our beloved members for an open evening of conversation\, crafting and community.
URL:https://denverpressclub.org/event/crafting-for-democracy-10/
LOCATION:The Denver Press Club\, 1330 Glenarm Pl\, Denver\, CO\, 80204\, United States
ATTACH;FMTTYPE=image/jpeg:https://denverpressclub.org/wp-content/uploads/2026/04/IMG_3085-1.jpeg
END:VEVENT
BEGIN:VEVENT
DTSTART;TZID=America/Denver:20260722T183000
DTEND;TZID=America/Denver:20260722T200000
DTSTAMP:20260425T133053
CREATED:20260305T191052Z
LAST-MODIFIED:20260305T191115Z
UID:58669-1784745000-1784750400@denverpressclub.org
SUMMARY:July Board Meeting
DESCRIPTION:RSVP HERE!
URL:https://denverpressclub.org/event/july-board-meeting/
LOCATION:The Denver Press Club\, 1330 Glenarm Pl\, Denver\, CO\, 80204\, United States
ATTACH;FMTTYPE=image/png:https://denverpressclub.org/wp-content/uploads/2026/03/July-board-meeting.png
END:VEVENT
BEGIN:VEVENT
DTSTART;TZID=America/Denver:20260805T180000
DTEND;TZID=America/Denver:20260805T193000
DTSTAMP:20260425T133053
CREATED:20260410T170354Z
LAST-MODIFIED:20260410T170354Z
UID:58762-1785952800-1785958200@denverpressclub.org
SUMMARY:Women Journalists Meetup
DESCRIPTION:RSVP here!
URL:https://denverpressclub.org/event/women-journalists-meetup-2/
LOCATION:The Denver Press Club\, 1330 Glenarm Pl\, Denver\, CO\, 80204\, United States
ATTACH;FMTTYPE=image/png:https://denverpressclub.org/wp-content/uploads/2026/04/August-Women-Journo-Night.png
END:VEVENT
BEGIN:VEVENT
DTSTART;TZID=America/Denver:20260812T190000
DTEND;TZID=America/Denver:20260812T210000
DTSTAMP:20260425T133053
CREATED:20260207T000916Z
LAST-MODIFIED:20260207T000916Z
UID:58584-1786561200-1786568400@denverpressclub.org
SUMMARY:UHS Trivia Contest
DESCRIPTION:Join us for the best trivia in town!
URL:https://denverpressclub.org/event/uhs-trivia-contest-17/
LOCATION:The Denver Press Club\, 1330 Glenarm Pl\, Denver\, CO\, 80204\, United States
ATTACH;FMTTYPE=image/png:https://denverpressclub.org/wp-content/uploads/2026/02/UHS-Trivia-Contest-2026.png
END:VEVENT
BEGIN:VEVENT
DTSTART;TZID=America/Denver:20260814T180000
DTEND;TZID=America/Denver:20260814T200000
DTSTAMP:20260425T133053
CREATED:20260415T233351Z
LAST-MODIFIED:20260415T233351Z
UID:58795-1786730400-1786737600@denverpressclub.org
SUMMARY:Crafting for Democracy
DESCRIPTION:Join some of our beloved members for an open evening of conversation\, crafting and community.
URL:https://denverpressclub.org/event/crafting-for-democracy-11/
LOCATION:The Denver Press Club\, 1330 Glenarm Pl\, Denver\, CO\, 80204\, United States
ATTACH;FMTTYPE=image/jpeg:https://denverpressclub.org/wp-content/uploads/2026/04/IMG_3085-1.jpeg
END:VEVENT
BEGIN:VEVENT
DTSTART;TZID=America/Denver:20260826T183000
DTEND;TZID=America/Denver:20260826T200000
DTSTAMP:20260425T133053
CREATED:20260305T192618Z
LAST-MODIFIED:20260305T192618Z
UID:58672-1787769000-1787774400@denverpressclub.org
SUMMARY:August Board Meeting
DESCRIPTION:RSVP HERE!
URL:https://denverpressclub.org/event/august-board-meeting/
LOCATION:The Denver Press Club\, 1330 Glenarm Pl\, Denver\, CO\, 80204\, United States
ATTACH;FMTTYPE=image/png:https://denverpressclub.org/wp-content/uploads/2026/03/August-board-meeting.png
END:VEVENT
BEGIN:VEVENT
DTSTART;TZID=America/Denver:20260909T190000
DTEND;TZID=America/Denver:20260909T210000
DTSTAMP:20260425T133053
CREATED:20260207T001310Z
LAST-MODIFIED:20260207T001310Z
UID:58588-1788980400-1788987600@denverpressclub.org
SUMMARY:UHS Trivia Contest
DESCRIPTION:Join us for the best trivia in town!
URL:https://denverpressclub.org/event/uhs-trivia-contest-19/
LOCATION:The Denver Press Club\, 1330 Glenarm Pl\, Denver\, CO\, 80204\, United States
ATTACH;FMTTYPE=image/png:https://denverpressclub.org/wp-content/uploads/2026/02/UHS-Trivia-Contest-2026.png
END:VEVENT
BEGIN:VEVENT
DTSTART;TZID=America/Denver:20260911T180000
DTEND;TZID=America/Denver:20260911T200000
DTSTAMP:20260425T133053
CREATED:20260415T233443Z
LAST-MODIFIED:20260415T233443Z
UID:58797-1789149600-1789156800@denverpressclub.org
SUMMARY:Crafting for Democracy
DESCRIPTION:Join some of our beloved members for an open evening of conversation\, crafting and community.
URL:https://denverpressclub.org/event/crafting-for-democracy-12/
LOCATION:The Denver Press Club\, 1330 Glenarm Pl\, Denver\, CO\, 80204\, United States
ATTACH;FMTTYPE=image/jpeg:https://denverpressclub.org/wp-content/uploads/2026/04/IMG_3085-1.jpeg
END:VEVENT
BEGIN:VEVENT
DTSTART;TZID=America/Denver:20260923T183000
DTEND;TZID=America/Denver:20260923T200000
DTSTAMP:20260425T133053
CREATED:20260305T210819Z
LAST-MODIFIED:20260305T210827Z
UID:58681-1790188200-1790193600@denverpressclub.org
SUMMARY:September Board Meeting
DESCRIPTION:RSVP HERE!
URL:https://denverpressclub.org/event/september-board-meeting/
LOCATION:The Denver Press Club\, 1330 Glenarm Pl\, Denver\, CO\, 80204\, United States
ATTACH;FMTTYPE=image/png:https://denverpressclub.org/wp-content/uploads/2026/03/September-board-meeting.png
END:VEVENT
BEGIN:VEVENT
DTSTART;TZID=America/Denver:20261009T180000
DTEND;TZID=America/Denver:20261009T200000
DTSTAMP:20260425T133053
CREATED:20260415T233536Z
LAST-MODIFIED:20260415T233536Z
UID:58799-1791568800-1791576000@denverpressclub.org
SUMMARY:Crafting for Democracy
DESCRIPTION:Join some of our beloved members for an open evening of conversation\, crafting and community.
URL:https://denverpressclub.org/event/crafting-for-democracy-13/
LOCATION:The Denver Press Club\, 1330 Glenarm Pl\, Denver\, CO\, 80204\, United States
ATTACH;FMTTYPE=image/jpeg:https://denverpressclub.org/wp-content/uploads/2026/04/IMG_3085-1.jpeg
END:VEVENT
BEGIN:VEVENT
DTSTART;TZID=America/Denver:20261014T190000
DTEND;TZID=America/Denver:20261014T210000
DTSTAMP:20260425T133053
CREATED:20260207T001400Z
LAST-MODIFIED:20260207T001400Z
UID:58590-1792004400-1792011600@denverpressclub.org
SUMMARY:UHS Trivia Contest
DESCRIPTION:Join us for the best trivia in town!
URL:https://denverpressclub.org/event/uhs-trivia-contest-20/
LOCATION:The Denver Press Club\, 1330 Glenarm Pl\, Denver\, CO\, 80204\, United States
ATTACH;FMTTYPE=image/png:https://denverpressclub.org/wp-content/uploads/2026/02/UHS-Trivia-Contest-2026.png
END:VEVENT
BEGIN:VEVENT
DTSTART;TZID=America/Denver:20261028T183000
DTEND;TZID=America/Denver:20261028T200000
DTSTAMP:20260425T133053
CREATED:20260305T205046Z
LAST-MODIFIED:20260305T205046Z
UID:58675-1793212200-1793217600@denverpressclub.org
SUMMARY:October Board Meeting
DESCRIPTION:RSVP HERE! 
URL:https://denverpressclub.org/event/october-board-meeting/
LOCATION:The Denver Press Club\, 1330 Glenarm Pl\, Denver\, CO\, 80204\, United States
ATTACH;FMTTYPE=image/png:https://denverpressclub.org/wp-content/uploads/2026/03/October-board-meeting.png
END:VEVENT
BEGIN:VEVENT
DTSTART;TZID=America/Denver:20261104T180000
DTEND;TZID=America/Denver:20261104T193000
DTSTAMP:20260425T133053
CREATED:20260410T170654Z
LAST-MODIFIED:20260410T170815Z
UID:58765-1793815200-1793820600@denverpressclub.org
SUMMARY:Women Journalist Meetup
DESCRIPTION:RSVP here!
URL:https://denverpressclub.org/event/women-journalist-meetup/
LOCATION:The Denver Press Club\, 1330 Glenarm Pl\, Denver\, CO\, 80204\, United States
ATTACH;FMTTYPE=image/png:https://denverpressclub.org/wp-content/uploads/2026/04/November-Women-Journo-Night.png
END:VEVENT
END:VCALENDAR